BEGIN:VCALENDAR
VERSION:2.0
PRODID:-//Fondation du Centre Jeunesse de l&#039;Estrie - ECPv6.7.1//NONSGML v1.0//EN
CALSCALE:GREGORIAN
METHOD:PUBLISH
X-WR-CALNAME:Fondation du Centre Jeunesse de l&#039;Estrie
X-ORIGINAL-URL:https://www.fondationcje.com
X-WR-CALDESC:Événements pour Fondation du Centre Jeunesse de l&#039;Estrie
REFRESH-INTERVAL;VALUE=DURATION:PT1H
X-Robots-Tag:noindex
X-PUBLISHED-TTL:PT1H
BEGIN:VTIMEZONE
TZID:America/Toronto
BEGIN:DAYLIGHT
TZOFFSETFROM:-0500
TZOFFSETTO:-0400
TZNAME:EDT
DTSTART:20220313T070000
END:DAYLIGHT
BEGIN:STANDARD
TZOFFSETFROM:-0400
TZOFFSETTO:-0500
TZNAME:EST
DTSTART:20221106T060000
END:STANDARD
BEGIN:DAYLIGHT
TZOFFSETFROM:-0500
TZOFFSETTO:-0400
TZNAME:EDT
DTSTART:20230312T070000
END:DAYLIGHT
BEGIN:STANDARD
TZOFFSETFROM:-0400
TZOFFSETTO:-0500
TZNAME:EST
DTSTART:20231105T060000
END:STANDARD
BEGIN:DAYLIGHT
TZOFFSETFROM:-0500
TZOFFSETTO:-0400
TZNAME:EDT
DTSTART:20240310T070000
END:DAYLIGHT
BEGIN:STANDARD
TZOFFSETFROM:-0400
TZOFFSETTO:-0500
TZNAME:EST
DTSTART:20241103T060000
END:STANDARD
BEGIN:DAYLIGHT
TZOFFSETFROM:-0500
TZOFFSETTO:-0400
TZNAME:EDT
DTSTART:20250309T070000
END:DAYLIGHT
BEGIN:STANDARD
TZOFFSETFROM:-0400
TZOFFSETTO:-0500
TZNAME:EST
DTSTART:20251102T060000
END:STANDARD
END:VTIMEZONE
BEGIN:VEVENT
DTSTART;TZID=America/Toronto:20250502T090000
DTEND;TZID=America/Toronto:20250502T170000
DTSTAMP:20260422T173556
CREATED:20250419T140925Z
LAST-MODIFIED:20250419T141420Z
UID:1722-1746176400-1746205200@www.fondationcje.com
SUMMARY:Collecte de dons : 3 jours pour soutenir les jeunes de la DPJ
DESCRIPTION:Les 2\, 3 et 4 mai\, la Fondation du Centre jeunesse de l’Estrie organise une collecte éclair pour répondre aux besoins des jeunes suivis par la DPJ.\n📍 Lieu: Fondation du Centre jeunesse de l’Estrie : 470\, rue Victoria\, Sherbrooke\n📅 Horaire de la collecte\n\nVendredi 2 mai : de 9 h à 17 h\nSamedi 3 mai : de 8 h 30 à 16 h\nDimanche 4 mai : de 9 h à 12 h\n\nMême si notre priorité actuelle est de recueillir des dons financiers pour répondre aux besoins urgents\, plusieurs articles concrets peuvent aussi avoir un impact immense dans la vie des jeunes que nous accompagnons. \nCertains vivent en famille d’accueil\, d’autres avec un parent aux ressources limitées\, ou encore dans des centres de réadaptation comme Val-du-Lac ou Bowen. Plusieurs jeunes atteignent leur majorité sans filet de sécurité et doivent s’installer en appartement à 18 ans\, parfois avec très peu en poche. Chaque don reçu est une façon de leur tendre la main et de les aider à bâtir un avenir plus stable\, plus digne\, et plus serein. \n🛑 Tous les articles remis doivent être en excellent état\, propres\, complets et non endommagés. \n  \nArticles recherchés pour nos jeunes :\n📚 Livres pour adolescent(e)s (6 à 18 ans) \n· Romans récents\, populaires ou adaptés à leur âge \n· Livres neufs ou en excellent état \n  \n🏠 Équipement pour appartements (jeunes de 18 ans qui quittent la DPJ) \n· Vaisselle de base : assiettes\, bols\, ustensiles \n· Verres\, tasses\, plats de rangement \n· Casseroles\, poêles\, passoires \n· Petits électroménagers : grille-pain\, cafetière\, micro-ondes\, bouilloire \n· Literie : draps simples et doubles\, couvertures\, oreillers \n· Serviettes de bain et débarbouillettes \n· Articles de décoration simples : lampes\, cadres\, coussins\, horloges \n  \n⚽ Matériel sportif \n· Vélos\, trottinettes\, patins \n· Ballons : soccer\, basket\, volley \n· Protections sportives : genouillères\, protège-tibias\, etc. \n· Vêtements de sport : chandails\, shorts \n· Sacs de sport \n  \n🎲 Jeux pour enfants de 10 ans et plus \n· Jeux de société : Uno\, Jenga\, Clue\, Monopoly\, etc. \n· Casse-têtes \n· Matériel créatif : peinture\, bricolage\, carnets à dessin \n· Jeux d’adresse ou de groupe \n· Jeux portatifs pour les chambres ou les salles communes \n  \n🎒 Matériel scolaire \n· Sacs à dos solides \n· Cahiers\, duo-tangs\, feuilles lignées \n· Trousses\, crayons\, stylos\, surligneurs \n· Calculatrices\, règles\, effaces \n· Boîtes à lunch et bouteilles d’eau réutilisables \n  \nChaque don fait une grande différence dans la vie de nos jeunes!
URL:https://www.fondationcje.com/evenement/collecte-de-dons-3-jours-pour-soutenir-les-jeunes-de-la-dpj/2025-05-02/
LOCATION:Fondation Centre jeunesse de l’Estrie\, 1820 rue Galt Ouest\, Bureau 253-H\, Sherbrooke\, Québec\, J1K 1H8\, Canada
CATEGORIES:Collecte de don
ORGANIZER;CN="Fondation du Centre jeunesse de l%E2%80%99Estrie":MAILTO:info@fondationcje.com
END:VEVENT
BEGIN:VEVENT
DTSTART;TZID=America/Toronto:20241017T173000
DTEND;TZID=America/Toronto:20241017T220000
DTSTAMP:20260422T173556
CREATED:20230619T201820Z
LAST-MODIFIED:20240909T173441Z
UID:1251-1729186200-1729202400@www.fondationcje.com
SUMMARY:13e édition - Coquetel de la Fondation du Centre jeunesse de l'Estrie
DESCRIPTION:13e Édition – Coquetel de la Fondation du Centre jeunesse de l’Estrie\nLa Fondation du Centre jeunesse de l’Estrie invite toute la population ainsi que les entreprises à son 13e coquetel-bénéfice afin de venir en aide aux enfants et aux jeunes de la DPJ en Estrie. \nL’événement se déroulera sous la présidence d’honneur de Mme Marie-Christine Marcoux\, vice-présidente entreprise et gestion privée de la Banque Nationale du Canada. \n🧡 Faites LA différence le jeudi 17 octobre 2024 dès 17 h 30 chez Mercedes-Benz Sherbrooke. 🧡\n \nAffichez l’image de votre entreprise et aidez-nous a soutenir plus de 3600 enfants et jeunes en Estrie.\n\nCes enfants ont des histoires incroyables qui parlent de courage\, d’authenticité\, de force et malheureusement aussi de blessures.  \n Les fonds récoltés permettront de financer des programmes essentiels pour leur développement et leur bien-être.  \n\n \n🎉 Au programme de la soirée 🎉\n\nCocktails et bières rafraîchissantes \nDélicieuses bouchées \nAmbiance simple et agréable\nTémoignages de jeunes exceptionnels\nPlaisir garanti\n\n\n\n\n\n  Plan de commandite – 13e édition – Coquetel de la Fondation\n  \n﻿
URL:https://www.fondationcje.com/evenement/13e-edition-coquetel/
LOCATION:Mercedes-Benz de Sherbrooke\, 4787 boulevard Bourque\, Sherbrooke\, quebec\, J1N 2G6
CATEGORIES:Cocktail dînatoire annuel,Coquetel Dînatoire,encan silencieux,Levée de fond
ATTACH;FMTTYPE=image/png:https://www.fondationcje.com/wp-content/uploads/2023/06/FCJE.png
ORGANIZER;CN="Fondation du Centre jeunesse de l%E2%80%99Estrie":MAILTO:info@fondationcje.com
END:VEVENT
BEGIN:VEVENT
DTSTART;TZID=America/Toronto:20231120T080000
DTEND;TZID=America/Toronto:20231220T000000
DTSTAMP:20260422T173556
CREATED:20231120T160403Z
LAST-MODIFIED:20231120T180400Z
UID:1424-1700467200-1703030400@www.fondationcje.com
SUMMARY:Mouvement "Ensemble\, enlevons l'étiquette"
DESCRIPTION:La Fondation du Centre jeunesse de l’Estrie est fière de lancer le mouvement « Ensemble\, Enlevons l’étiquette »! \nVous aimeriez soutenir le mouvement?\nPortez fièrement le ruban de la sensibilisation aux stigmas des enfants de la DPJ et de leurs intervenants. \nVisitez notre page spéciale pour en savoir plus
URL:https://www.fondationcje.com/evenement/mouvement-ensemble-enlevons-letiquette/
ATTACH;FMTTYPE=image/webp:https://www.fondationcje.com/wp-content/uploads/2023/11/enleve-ton-etiquette-Microsoft-Teams-Background-1920-x-1080-px.webp
ORGANIZER;CN="Fondation du Centre jeunesse de l%E2%80%99Estrie":MAILTO:info@fondationcje.com
END:VEVENT
BEGIN:VEVENT
DTSTART;TZID=America/Toronto:20230520T100000
DTEND;TZID=America/Toronto:20230520T180000
DTSTAMP:20260422T173556
CREATED:20230509T162217Z
LAST-MODIFIED:20230511T152419Z
UID:1245-1684576800-1684605600@www.fondationcje.com
SUMMARY:La foire des rêves - Au profit de la Fondation du Centre jeunesse de l'Estrie
DESCRIPTION:La foire des rêves est un événement au profit de la Fondation du Centre jeunesse de l’Estrie qui rassemble des exposants et des artisans de l’Estrie\, mais aussi d’ailleurs.\n  \n\nLa foire des rêves est un événement au profit de la Fondation du Centre jeunesse de l’Estrie qui rassemble des exposants et des artisans de l’Estrie\, mais aussi d’ailleurs. \nL’entrée est gratuite et un encan silencieux est prévu à cet événement. \nVenez découvrir et acheter les excellents produits qui vous seront proposés. \nLa foire des rêves\, un marché pour faire sourire les jeunes!
URL:https://www.fondationcje.com/evenement/la-foire-des-reves-au-profit-de-la-fondation-du-centre-jeunesse-de-lestrie/
LOCATION:Cegep de Sherbrooke\, 475\, rue Du Cégep\, Sherbrooke\, Québec\, J1E4K1\, Canada
CATEGORIES:encan silencieux,exposants et des artisans de l’Estrie
ATTACH;FMTTYPE=image/jpeg:https://www.fondationcje.com/wp-content/uploads/2023/05/thumbnail_AFFICHE-FOIRE_Version_02-05_Revise.jpg
ORGANIZER;CN="Fondation du Centre jeunesse de l%E2%80%99Estrie":MAILTO:info@fondationcje.com
END:VEVENT
BEGIN:VEVENT
DTSTART;TZID=America/Toronto:20230510T113000
DTEND;TZID=America/Toronto:20230510T190000
DTSTAMP:20260422T173556
CREATED:20230509T160458Z
LAST-MODIFIED:20230509T160458Z
UID:1237-1683718200-1683745200@www.fondationcje.com
SUMMARY:Grand McDon 10 mai 2023 | 5 Restaurants McDonald's de Sherbrooke s'allient à la Fondation du Centre Jeunesse de l'Estrie
DESCRIPTION:Sherbrooke rue King Ouest\, Sherbrooke sur le Plateau St-Joseph\, St-Élie\, Rock Forest et Lennoxville\n  \nRéservez cette date pour venir nous visiter et faire une bonne action. Vous pouvez contribuer dès aujourd’hui en vous procurant des cœurs ❤️🧡💛 ou des chaussettes 🧦🧦🧦 moyennant un don de 2$ ou 5$. Tous les dons amassés seront offerts à la Fondation du Centre Jeunesse de l’Estrie et au Manoir Ronald McDonald Montreal  — à McDonald’s Canada. \nLa Fondation du Centre jeunesse de l’Estrie soutient les jeunes vulnérables et leur famille en offrant du support à travers différents programmes et projets. Depuis plus de 20 ans\, la Fondation du Centre jeunesse de l’Estrie supporté par ses généreux donateurs et bénévoles engagés veille à faire LA différence dans la vie de ses enfants. C’est plus de 200 enfants et jeunes adultes et parents vulnérables qui sont supporté par année. \nEn 2022\, c’est 19 742$ qui a été versé à travers ‘’Mon Toit à Moi’’. Cela a permis à plusieurs jeunes de la DPJ DE L’ESTRIE en transition vers la vie adulte de pouvoir recevoir un trousseau de départ afin de s’installer et d’être confortable dans un logement dès l’âge de 18 ans. En 2021\, les chiens d’assistance en soutien émotionnel de la Fondation du CJE ont permis de faire La différence. Watson a réalisé plus de 141 interventions à Val-du-Lac et Bobine plus de 85 interventions. \nAnnuellement\, l’œuvre des Manoirs Ronald McDonald (OMRM) soutient 26 000 familles dans plus de 3 400 collectivités canadiennes\, une famille à la fois. \nUn Canadien sur quatre a déjà séjourné à l’OMRM ou connaît une personne qui y a été hébergée. Les 16 Manoirs Ronald McDonald au Canada offrent un deuxième chez-soi aux familles dont l’enfant est traité dans un hôpital à proximité. Les 17 Salles familiales Ronald. McDonald\, quant à elles\, offrent aux familles une oasis de repos et de calme au cœur même de l’hôpital.
URL:https://www.fondationcje.com/evenement/grand-mcdon-10-mai-2023-5-restaurants-mcdonalds-de-sherbrooke-sallient-a-la-fondation-du-centre-jeunesse-de-lestrie/
LOCATION:3065 rue King Ouest\, Sherbrooke\, QC\, Canada\, Quebec\, 3065 king ouest\, sherbrooke\, quebec\, j1l1c8\, Canada
ATTACH;FMTTYPE=image/png:https://www.fondationcje.com/wp-content/uploads/2023/05/thumbnail_Screen-Shot-2023-03-14-at-10.24.56-AM.png
ORGANIZER;CN="Restaurants McDonald's - Sherbrooke - Macco Inc":MAILTO:gerantpersonnel@restmacco.com
END:VEVENT
BEGIN:VEVENT
DTSTART;TZID=America/Toronto:20221117T173000
DTEND;TZID=America/Toronto:20221117T200000
DTSTAMP:20260422T173556
CREATED:20220712T170913Z
LAST-MODIFIED:20221109T020444Z
UID:867-1668706200-1668715200@www.fondationcje.com
SUMMARY:Coquetel dînatoire annuel de la Fondation du Centre jeunesse de l'Estrie
DESCRIPTION:Bonne nouvelle! Le Coquetel dînatoire est de retour! \nAchetez vos billets dès maintenant \nQuand : 17 novembre 2022\nOù : Au Musée de la nature et des sciences de Sherbrooke\nHeure : 17h30 à 20h \nVenez nous rencontrer et échanger lors d’une magnifique soirée tout en profitant de cette occasion pour faire LA différence dans les vie de nombreux enfants qui reçoivent les services en protection de la jeunesse en Estrie. \nLes billets sont en vente au coût de 175$ et ils sont admissibles à un reçu fiscal. \nBouchées et cocktails seront offerts sur place. \nVous pouvez aussi vous procurer de magnifiques cartes de Noël\, dont tous les profits seront remis à la Fondation. Vous pouvez choisir les modèles de votre choix. Cliquez ici pour passer votre commande. \nPour obtenir de plus amples informations\, n’hésitez pas à écrire à France Proteau fproteau@fondationcje.com.
URL:https://www.fondationcje.com/evenement/coquetel-dinatoire-annuel-de-la-fondation-du-centre-jeunesse-de-lestrie/
LOCATION:Musée de la nature et des sciences de Sherbrooke\, 225\, rue Frontenac\, Sherbrooke\, Québec\, J1H 1K1
ATTACH;FMTTYPE=image/jpeg:https://www.fondationcje.com/wp-content/uploads/2022/07/coquetail-dinatoire-FondationCJE.jpg
ORGANIZER;CN="Fondation du Centre jeunesse de l%E2%80%99Estrie":MAILTO:info@fondationcje.com
END:VEVENT
END:VCALENDAR