BEGIN:VCALENDAR
VERSION:2.0
PRODID:-//Fondation du Centre Jeunesse de l&#039;Estrie - ECPv6.7.1//NONSGML v1.0//EN
CALSCALE:GREGORIAN
METHOD:PUBLISH
X-ORIGINAL-URL:https://www.fondationcje.com
X-WR-CALDESC:Événements pour Fondation du Centre Jeunesse de l&#039;Estrie
REFRESH-INTERVAL;VALUE=DURATION:PT1H
X-Robots-Tag:noindex
X-PUBLISHED-TTL:PT1H
BEGIN:VTIMEZONE
TZID:America/Toronto
BEGIN:DAYLIGHT
TZOFFSETFROM:-0500
TZOFFSETTO:-0400
TZNAME:EDT
DTSTART:20240310T070000
END:DAYLIGHT
BEGIN:STANDARD
TZOFFSETFROM:-0400
TZOFFSETTO:-0500
TZNAME:EST
DTSTART:20241103T060000
END:STANDARD
END:VTIMEZONE
BEGIN:VEVENT
DTSTART;TZID=America/Toronto:20241017T173000
DTEND;TZID=America/Toronto:20241017T220000
DTSTAMP:20260422T191523
CREATED:20230619T201820Z
LAST-MODIFIED:20240909T173441Z
UID:1251-1729186200-1729202400@www.fondationcje.com
SUMMARY:13e édition - Coquetel de la Fondation du Centre jeunesse de l'Estrie
DESCRIPTION:13e Édition – Coquetel de la Fondation du Centre jeunesse de l’Estrie\nLa Fondation du Centre jeunesse de l’Estrie invite toute la population ainsi que les entreprises à son 13e coquetel-bénéfice afin de venir en aide aux enfants et aux jeunes de la DPJ en Estrie. \nL’événement se déroulera sous la présidence d’honneur de Mme Marie-Christine Marcoux\, vice-présidente entreprise et gestion privée de la Banque Nationale du Canada. \n🧡 Faites LA différence le jeudi 17 octobre 2024 dès 17 h 30 chez Mercedes-Benz Sherbrooke. 🧡\n \nAffichez l’image de votre entreprise et aidez-nous a soutenir plus de 3600 enfants et jeunes en Estrie.\n\nCes enfants ont des histoires incroyables qui parlent de courage\, d’authenticité\, de force et malheureusement aussi de blessures.  \n Les fonds récoltés permettront de financer des programmes essentiels pour leur développement et leur bien-être.  \n\n \n🎉 Au programme de la soirée 🎉\n\nCocktails et bières rafraîchissantes \nDélicieuses bouchées \nAmbiance simple et agréable\nTémoignages de jeunes exceptionnels\nPlaisir garanti\n\n\n\n\n\n  Plan de commandite – 13e édition – Coquetel de la Fondation\n  \n﻿
URL:https://www.fondationcje.com/evenement/13e-edition-coquetel/
LOCATION:Mercedes-Benz de Sherbrooke\, 4787 boulevard Bourque\, Sherbrooke\, quebec\, J1N 2G6
CATEGORIES:Cocktail dînatoire annuel,Coquetel Dînatoire,encan silencieux,Levée de fond
ATTACH;FMTTYPE=image/png:https://www.fondationcje.com/wp-content/uploads/2023/06/FCJE.png
ORGANIZER;CN="Fondation du Centre jeunesse de l%E2%80%99Estrie":MAILTO:info@fondationcje.com
END:VEVENT
END:VCALENDAR