BEGIN:VCALENDAR
VERSION:2.0
PRODID:-//Fondation du Centre Jeunesse de l&#039;Estrie - ECPv6.7.1//NONSGML v1.0//EN
CALSCALE:GREGORIAN
METHOD:PUBLISH
X-ORIGINAL-URL:https://www.fondationcje.com
X-WR-CALDESC:Événements pour Fondation du Centre Jeunesse de l&#039;Estrie
REFRESH-INTERVAL;VALUE=DURATION:PT1H
X-Robots-Tag:noindex
X-PUBLISHED-TTL:PT1H
BEGIN:VTIMEZONE
TZID:America/Toronto
BEGIN:DAYLIGHT
TZOFFSETFROM:-0500
TZOFFSETTO:-0400
TZNAME:EDT
DTSTART:20250309T070000
END:DAYLIGHT
BEGIN:STANDARD
TZOFFSETFROM:-0400
TZOFFSETTO:-0500
TZNAME:EST
DTSTART:20251102T060000
END:STANDARD
END:VTIMEZONE
BEGIN:VEVENT
DTSTART;VALUE=DATE:20251130
DTEND;VALUE=DATE:20260101
DTSTAMP:20260422T174032
CREATED:20251130T140545Z
LAST-MODIFIED:20251130T141115Z
UID:2874-1764460800-1767225599@www.fondationcje.com
SUMMARY:Illuminer la vie d’un jeune de la DPJ – Campagne de dons du temps des Fêtes
DESCRIPTION:La Fondation lance sa campagne Illuminer la vie d’un jeune\, une mobilisation essentielle pour soutenir les jeunes suivis par la DPJ durant le temps des Fêtes. \nLes Fêtes ne veulent pas dire la même chose pour tous les jeunes. Pour plusieurs\, cette période met parfois en lumière des réalités plus difficiles. Avec votre soutien\, on peut leur offrir un peu plus de stabilité\, de réconfort et de lumière. \nGrâce aux dons\, on peut offrir \n\n150 $ contribue à offrir un matelas ou un ensemble de départ à un jeune qui arrive en appartement\n100 $ permet d’offrir un manteau chaud ou des vêtements neufs\n75 $ offre une activité sportive pour briser l’isolement\n50 $ soutient un jeune en santé mentale\n40 $ offre un premier jeu\, livre ou objet neuf qui lui appartient vraiment\n25 $ aide un jeune à manger lorsque toutes les autres ressources ont été épuisées\net bien plus\, selon les besoins des jeunes\n\nChaque geste compte.Chaque contribution permet d’illuminer la vie d’un jeune qui en a réellement besoin. \nPour donner:https www zeffy com fr CA donation form illuminer la vie dun jeune de la dpj \nMerci de vous joindre à nous pour illuminer la vie d’un jeune. \n\nhttps://www.fondationcje.com/wp-content/uploads/2025/11/FCJE_CampagneDons202511_v1.mp4
URL:https://www.fondationcje.com/evenement/illuminer-la-vie-dun-jeune-de-la-dpj-campagne-de-dons-du-temps-des-fetes/
LOCATION:Fondation Centre jeunesse de l’Estrie\, 1820 rue Galt Ouest\, Bureau 253-H\, Sherbrooke\, Québec\, J1K 1H8\, Canada
CATEGORIES:Levée de fond
ATTACH;FMTTYPE=image/png:https://www.fondationcje.com/wp-content/uploads/2025/11/evenement.png
ORGANIZER;CN="Fondation du Centre jeunesse de l%E2%80%99Estrie":MAILTO:info@fondationcje.com
END:VEVENT
BEGIN:VEVENT
DTSTART;VALUE=DATE:20251120
DTEND;VALUE=DATE:20251221
DTSTAMP:20260422T174032
CREATED:20251112T110652Z
LAST-MODIFIED:20251113T192538Z
UID:2798-1763596800-1766275199@www.fondationcje.com
SUMMARY:Mouvement Enlève ton étiquette
DESCRIPTION:Du 20 novembre au 20 décembre\, la Fondation du Centre jeunesse de l’Estrie invite la population à se joindre au mouvement Enlève ton étiquette\, une initiative de sensibilisation qui vise à briser les préjugés envers les jeunes de la DPJ. \nÀ travers des visuels percutants et des témoignages inspirants\, le mouvement met de l’avant la richesse\, la résilience et l’humanité de ces jeunes souvent jugés ou mal compris. Le message est clair : derrière chaque étiquette\, il y a une personne\, une histoire\, un avenir. \nPorté par la Fondation du Centre jeunesse de l’Estrie\, le mouvement Enlève ton étiquette rayonne également à travers plusieurs fondations jeunesse du Québec qui s’unissent pour changer le regard collectif. \nTout au long de cette période\, les citoyens\, les entreprises et les partenaires sont invités à afficher leur appui\, à partager les visuels sur les réseaux sociaux et à poser un geste concret en soutenant la Fondation. \nPortez le ruban Enlève ton étiquetteAffichez votre soutien en portant fièrement le ruban du mouvement. Vous pouvez nous contacter pour en obtenir à la Fondation du Centre jeunesse de l’Estrie. \nDate à retenir :Lancement officiel le 20 novembre 2025 à Sherbrooke\, à l’occasion de la Journée mondiale de l’enfance.
URL:https://www.fondationcje.com/evenement/mouvement-enleve-ton-etiquette-du-20-novembre-au-20-decembre-2025/
LOCATION:Fondation Centre jeunesse de l’Estrie\, 1820 rue Galt Ouest\, Bureau 253-H\, Sherbrooke\, Québec\, J1K 1H8\, Canada
ATTACH;FMTTYPE=image/png:https://www.fondationcje.com/wp-content/uploads/2025/11/Enleve-ton-etiquette.png
ORGANIZER;CN="Fondation du Centre jeunesse de l%E2%80%99Estrie":MAILTO:info@fondationcje.com
END:VEVENT
BEGIN:VEVENT
DTSTART;VALUE=DATE:20251117
DTEND;VALUE=DATE:20251124
DTSTAMP:20260422T174032
CREATED:20251112T110202Z
LAST-MODIFIED:20251113T192524Z
UID:2794-1763337600-1763942399@www.fondationcje.com
SUMMARY:Campagne « Biscuit sourire des Fêtes » de Tim Hortons
DESCRIPTION:Du 17 au 23 novembre\, la magie des Fêtes s’invite chez Tim Hortons! En achetant un biscuit sourire décoré de vermicelles rouges et verts\, vous contribuez à soutenir les jeunes de la DPJ en Estrie par l’entremise de la Fondation du Centre jeunesse de l’Estrie\, ainsi que la Fondation des Camps Tim Hortons. \nChaque biscuit vendu dans les succursales participantes de la région aide à financer des initiatives locales qui font une réelle différence dans la vie des jeunes et de leur communauté. \nSuccursales participantes en Estrie :Coaticook – 237 rue Main EstStanstead – 7 chemin FairfaxWindsor – 2 route 249Bromont – 1 rue St-DenisKnowlton – 478 chemin KnowltonMagog – 1008 rue SherbrookeMagog – 1859 rue SherbrookeSt-Denis-de-Brompton – 2027 route 222Bromptonville – 435 rue LavalAscot Corner – 5556 route 112Sherbrooke – 339 rue King EstSherbrooke – 1680 rue King EstSherbrooke – 4470 boul. BourqueSherbrooke – 5035 boul. IndustrielSherbrooke – 2015 12e AvenueSherbrooke – 4857 boul. BourqueSherbrooke – 3050 boul. de PortlandSherbrooke – 3825 rue du CollègeSherbrooke – 3260 rue King OuestSherbrooke – 1785 rue King OuestSherbrooke – 5983 chemin St-ÉlieSherbrooke – 3550 rue Galt OuestSherbrooke – 413 rue Belvédère SudSherbrooke – 260 rue Queen \nParticipez en vous procurant votre biscuit directement en restaurant ou en effectuant une précommande en ligne pour votre équipe ou votre entreprise. Un petit geste qui fait sourire… et qui change des vies!
URL:https://www.fondationcje.com/evenement/campagne-biscuit-sourire-des-fetes-de-tim-hortons/
LOCATION:Fondation Centre jeunesse de l’Estrie\, 1820 rue Galt Ouest\, Bureau 253-H\, Sherbrooke\, Québec\, J1K 1H8\, Canada
ATTACH;FMTTYPE=image/png:https://www.fondationcje.com/wp-content/uploads/2025/11/Affiche-medias-sociaux-2025.png
ORGANIZER;CN="Fondation du Centre jeunesse de l%E2%80%99Estrie":MAILTO:info@fondationcje.com
END:VEVENT
BEGIN:VEVENT
DTSTART;TZID=America/Toronto:20250504T090000
DTEND;TZID=America/Toronto:20250504T120000
DTSTAMP:20260422T174032
CREATED:20250419T140925Z
LAST-MODIFIED:20250419T141420Z
UID:1726-1746349200-1746360000@www.fondationcje.com
SUMMARY:Collecte de dons : 3 jours pour soutenir les jeunes de la DPJ
DESCRIPTION:Les 2\, 3 et 4 mai\, la Fondation du Centre jeunesse de l’Estrie organise une collecte éclair pour répondre aux besoins des jeunes suivis par la DPJ.\n📍 Lieu: Fondation du Centre jeunesse de l’Estrie : 470\, rue Victoria\, Sherbrooke\n📅 Horaire de la collecte\n\nVendredi 2 mai : de 9 h à 17 h\nSamedi 3 mai : de 8 h 30 à 16 h\nDimanche 4 mai : de 9 h à 12 h\n\nMême si notre priorité actuelle est de recueillir des dons financiers pour répondre aux besoins urgents\, plusieurs articles concrets peuvent aussi avoir un impact immense dans la vie des jeunes que nous accompagnons. \nCertains vivent en famille d’accueil\, d’autres avec un parent aux ressources limitées\, ou encore dans des centres de réadaptation comme Val-du-Lac ou Bowen. Plusieurs jeunes atteignent leur majorité sans filet de sécurité et doivent s’installer en appartement à 18 ans\, parfois avec très peu en poche. Chaque don reçu est une façon de leur tendre la main et de les aider à bâtir un avenir plus stable\, plus digne\, et plus serein. \n🛑 Tous les articles remis doivent être en excellent état\, propres\, complets et non endommagés. \n  \nArticles recherchés pour nos jeunes :\n📚 Livres pour adolescent(e)s (6 à 18 ans) \n· Romans récents\, populaires ou adaptés à leur âge \n· Livres neufs ou en excellent état \n  \n🏠 Équipement pour appartements (jeunes de 18 ans qui quittent la DPJ) \n· Vaisselle de base : assiettes\, bols\, ustensiles \n· Verres\, tasses\, plats de rangement \n· Casseroles\, poêles\, passoires \n· Petits électroménagers : grille-pain\, cafetière\, micro-ondes\, bouilloire \n· Literie : draps simples et doubles\, couvertures\, oreillers \n· Serviettes de bain et débarbouillettes \n· Articles de décoration simples : lampes\, cadres\, coussins\, horloges \n  \n⚽ Matériel sportif \n· Vélos\, trottinettes\, patins \n· Ballons : soccer\, basket\, volley \n· Protections sportives : genouillères\, protège-tibias\, etc. \n· Vêtements de sport : chandails\, shorts \n· Sacs de sport \n  \n🎲 Jeux pour enfants de 10 ans et plus \n· Jeux de société : Uno\, Jenga\, Clue\, Monopoly\, etc. \n· Casse-têtes \n· Matériel créatif : peinture\, bricolage\, carnets à dessin \n· Jeux d’adresse ou de groupe \n· Jeux portatifs pour les chambres ou les salles communes \n  \n🎒 Matériel scolaire \n· Sacs à dos solides \n· Cahiers\, duo-tangs\, feuilles lignées \n· Trousses\, crayons\, stylos\, surligneurs \n· Calculatrices\, règles\, effaces \n· Boîtes à lunch et bouteilles d’eau réutilisables \n  \nChaque don fait une grande différence dans la vie de nos jeunes!
URL:https://www.fondationcje.com/evenement/collecte-de-dons-3-jours-pour-soutenir-les-jeunes-de-la-dpj/2025-05-04/
LOCATION:Fondation Centre jeunesse de l’Estrie\, 1820 rue Galt Ouest\, Bureau 253-H\, Sherbrooke\, Québec\, J1K 1H8\, Canada
CATEGORIES:Collecte de don
ORGANIZER;CN="Fondation du Centre jeunesse de l%E2%80%99Estrie":MAILTO:info@fondationcje.com
END:VEVENT
BEGIN:VEVENT
DTSTART;TZID=America/Toronto:20250503T083000
DTEND;TZID=America/Toronto:20250503T160000
DTSTAMP:20260422T174032
CREATED:20250419T140925Z
LAST-MODIFIED:20250419T141420Z
UID:1725-1746261000-1746288000@www.fondationcje.com
SUMMARY:Collecte de dons : 3 jours pour soutenir les jeunes de la DPJ
DESCRIPTION:Les 2\, 3 et 4 mai\, la Fondation du Centre jeunesse de l’Estrie organise une collecte éclair pour répondre aux besoins des jeunes suivis par la DPJ.\n📍 Lieu: Fondation du Centre jeunesse de l’Estrie : 470\, rue Victoria\, Sherbrooke\n📅 Horaire de la collecte\n\nVendredi 2 mai : de 9 h à 17 h\nSamedi 3 mai : de 8 h 30 à 16 h\nDimanche 4 mai : de 9 h à 12 h\n\nMême si notre priorité actuelle est de recueillir des dons financiers pour répondre aux besoins urgents\, plusieurs articles concrets peuvent aussi avoir un impact immense dans la vie des jeunes que nous accompagnons. \nCertains vivent en famille d’accueil\, d’autres avec un parent aux ressources limitées\, ou encore dans des centres de réadaptation comme Val-du-Lac ou Bowen. Plusieurs jeunes atteignent leur majorité sans filet de sécurité et doivent s’installer en appartement à 18 ans\, parfois avec très peu en poche. Chaque don reçu est une façon de leur tendre la main et de les aider à bâtir un avenir plus stable\, plus digne\, et plus serein. \n🛑 Tous les articles remis doivent être en excellent état\, propres\, complets et non endommagés. \n  \nArticles recherchés pour nos jeunes :\n📚 Livres pour adolescent(e)s (6 à 18 ans) \n· Romans récents\, populaires ou adaptés à leur âge \n· Livres neufs ou en excellent état \n  \n🏠 Équipement pour appartements (jeunes de 18 ans qui quittent la DPJ) \n· Vaisselle de base : assiettes\, bols\, ustensiles \n· Verres\, tasses\, plats de rangement \n· Casseroles\, poêles\, passoires \n· Petits électroménagers : grille-pain\, cafetière\, micro-ondes\, bouilloire \n· Literie : draps simples et doubles\, couvertures\, oreillers \n· Serviettes de bain et débarbouillettes \n· Articles de décoration simples : lampes\, cadres\, coussins\, horloges \n  \n⚽ Matériel sportif \n· Vélos\, trottinettes\, patins \n· Ballons : soccer\, basket\, volley \n· Protections sportives : genouillères\, protège-tibias\, etc. \n· Vêtements de sport : chandails\, shorts \n· Sacs de sport \n  \n🎲 Jeux pour enfants de 10 ans et plus \n· Jeux de société : Uno\, Jenga\, Clue\, Monopoly\, etc. \n· Casse-têtes \n· Matériel créatif : peinture\, bricolage\, carnets à dessin \n· Jeux d’adresse ou de groupe \n· Jeux portatifs pour les chambres ou les salles communes \n  \n🎒 Matériel scolaire \n· Sacs à dos solides \n· Cahiers\, duo-tangs\, feuilles lignées \n· Trousses\, crayons\, stylos\, surligneurs \n· Calculatrices\, règles\, effaces \n· Boîtes à lunch et bouteilles d’eau réutilisables \n  \nChaque don fait une grande différence dans la vie de nos jeunes!
URL:https://www.fondationcje.com/evenement/collecte-de-dons-3-jours-pour-soutenir-les-jeunes-de-la-dpj/2025-05-03/
LOCATION:Fondation Centre jeunesse de l’Estrie\, 1820 rue Galt Ouest\, Bureau 253-H\, Sherbrooke\, Québec\, J1K 1H8\, Canada
CATEGORIES:Collecte de don
ORGANIZER;CN="Fondation du Centre jeunesse de l%E2%80%99Estrie":MAILTO:info@fondationcje.com
END:VEVENT
BEGIN:VEVENT
DTSTART;TZID=America/Toronto:20250502T090000
DTEND;TZID=America/Toronto:20250502T170000
DTSTAMP:20260422T174032
CREATED:20250419T140925Z
LAST-MODIFIED:20250419T141420Z
UID:1722-1746176400-1746205200@www.fondationcje.com
SUMMARY:Collecte de dons : 3 jours pour soutenir les jeunes de la DPJ
DESCRIPTION:Les 2\, 3 et 4 mai\, la Fondation du Centre jeunesse de l’Estrie organise une collecte éclair pour répondre aux besoins des jeunes suivis par la DPJ.\n📍 Lieu: Fondation du Centre jeunesse de l’Estrie : 470\, rue Victoria\, Sherbrooke\n📅 Horaire de la collecte\n\nVendredi 2 mai : de 9 h à 17 h\nSamedi 3 mai : de 8 h 30 à 16 h\nDimanche 4 mai : de 9 h à 12 h\n\nMême si notre priorité actuelle est de recueillir des dons financiers pour répondre aux besoins urgents\, plusieurs articles concrets peuvent aussi avoir un impact immense dans la vie des jeunes que nous accompagnons. \nCertains vivent en famille d’accueil\, d’autres avec un parent aux ressources limitées\, ou encore dans des centres de réadaptation comme Val-du-Lac ou Bowen. Plusieurs jeunes atteignent leur majorité sans filet de sécurité et doivent s’installer en appartement à 18 ans\, parfois avec très peu en poche. Chaque don reçu est une façon de leur tendre la main et de les aider à bâtir un avenir plus stable\, plus digne\, et plus serein. \n🛑 Tous les articles remis doivent être en excellent état\, propres\, complets et non endommagés. \n  \nArticles recherchés pour nos jeunes :\n📚 Livres pour adolescent(e)s (6 à 18 ans) \n· Romans récents\, populaires ou adaptés à leur âge \n· Livres neufs ou en excellent état \n  \n🏠 Équipement pour appartements (jeunes de 18 ans qui quittent la DPJ) \n· Vaisselle de base : assiettes\, bols\, ustensiles \n· Verres\, tasses\, plats de rangement \n· Casseroles\, poêles\, passoires \n· Petits électroménagers : grille-pain\, cafetière\, micro-ondes\, bouilloire \n· Literie : draps simples et doubles\, couvertures\, oreillers \n· Serviettes de bain et débarbouillettes \n· Articles de décoration simples : lampes\, cadres\, coussins\, horloges \n  \n⚽ Matériel sportif \n· Vélos\, trottinettes\, patins \n· Ballons : soccer\, basket\, volley \n· Protections sportives : genouillères\, protège-tibias\, etc. \n· Vêtements de sport : chandails\, shorts \n· Sacs de sport \n  \n🎲 Jeux pour enfants de 10 ans et plus \n· Jeux de société : Uno\, Jenga\, Clue\, Monopoly\, etc. \n· Casse-têtes \n· Matériel créatif : peinture\, bricolage\, carnets à dessin \n· Jeux d’adresse ou de groupe \n· Jeux portatifs pour les chambres ou les salles communes \n  \n🎒 Matériel scolaire \n· Sacs à dos solides \n· Cahiers\, duo-tangs\, feuilles lignées \n· Trousses\, crayons\, stylos\, surligneurs \n· Calculatrices\, règles\, effaces \n· Boîtes à lunch et bouteilles d’eau réutilisables \n  \nChaque don fait une grande différence dans la vie de nos jeunes!
URL:https://www.fondationcje.com/evenement/collecte-de-dons-3-jours-pour-soutenir-les-jeunes-de-la-dpj/2025-05-02/
LOCATION:Fondation Centre jeunesse de l’Estrie\, 1820 rue Galt Ouest\, Bureau 253-H\, Sherbrooke\, Québec\, J1K 1H8\, Canada
CATEGORIES:Collecte de don
ORGANIZER;CN="Fondation du Centre jeunesse de l%E2%80%99Estrie":MAILTO:info@fondationcje.com
END:VEVENT
END:VCALENDAR